BEGIN:VCALENDAR
VERSION:2.0
PRODID:-//ZContent.net//ZapCalLib 1.0//EN
CALSCALE:GREGORIAN
METHOD:PUBLISH
BEGIN:VEVENT
SUMMARY:Geschichte erfahrbar machen: Aufarbeitung von Shoah und Täter_inne
 nschaft mit Jugendlichen | Abschlusstagung  von ORTSBEGEHUNG – Stadtrech
 erchen zu Shoah und Täterschaft
DTSTART:20141125T100000
DTEND:20141125T180000
UID:2026-04-19-15-48-07-0-@calendar.boell.de
DTSTAMP:20260419T134807
DESCRIPTION:▶ Siehe Veranstaltungsbeschreibung – Landesstiftung Branden
 burg
END:VEVENT
END:VCALENDAR
