BEGIN:VCALENDAR
VERSION:2.0
PRODID:-//ZContent.net//ZapCalLib 1.0//EN
CALSCALE:GREGORIAN
METHOD:PUBLISH
BEGIN:VEVENT
SUMMARY:„Organisation of the Organisationsless: Collective Action After N
 etworks” | Buchvorstellung und Diskussion mit Rodrigo Nunes
DTSTART:20141115T210000
DTEND:20141115T233000
UID:2026-04-22-03-02-12-0-@calendar.boell.de
DTSTAMP:20260422T010212
DESCRIPTION:▶ Siehe Veranstaltungsbeschreibung – Landesstiftung Berlin 
 (Bildungswerk)
END:VEVENT
END:VCALENDAR
