BEGIN:VCALENDAR
VERSION:2.0
PRODID:-//ZContent.net//ZapCalLib 1.0//EN
CALSCALE:GREGORIAN
METHOD:PUBLISH
BEGIN:VEVENT
SUMMARY:Menschenrechtspreis 2014 an Fartuun Adan | Einladung zur Verleihung
DTSTART:20141204T150000
DTEND:20141204T170000
UID:2026-04-21-19-14-02-0-@calendar.boell.de
DTSTAMP:20260421T171402
DESCRIPTION:▶ Siehe Veranstaltungsbeschreibung – Externe Veranstaltung
END:VEVENT
END:VCALENDAR
