BEGIN:VCALENDAR
VERSION:2.0
PRODID:-//ZContent.net//ZapCalLib 1.0//EN
CALSCALE:GREGORIAN
METHOD:PUBLISH
BEGIN:VEVENT
SUMMARY:Angst wovor? Über Fremdheit, Unsicherheit, Populismus, Kulturrassi
 smus.
DTSTART:20141212T140000
DTEND:20141212T190000
UID:2026-04-21-10-08-44-0-@calendar.boell.de
DTSTAMP:20260421T080844
DESCRIPTION:▶ Siehe Veranstaltungsbeschreibung – Potsdam – Landesstif
 tung Brandenburg
END:VEVENT
END:VCALENDAR
