BEGIN:VCALENDAR
VERSION:2.0
PRODID:-//ZContent.net//ZapCalLib 1.0//EN
CALSCALE:GREGORIAN
METHOD:PUBLISH
BEGIN:VEVENT
SUMMARY:Die Transformationsdebatte mit internationalistischem Blick | Offen
 er  Lesekreis
DTSTART:20150312T190000
DTEND:20150312T210000
UID:2026-04-20-20-01-11-0-@calendar.boell.de
DTSTAMP:20260420T180111
DESCRIPTION:Bildungswerk Berlin der Heinrich-Böll-Stiftung – Berlin – 
 Landesstiftung Berlin (Bildungswerk)
END:VEVENT
END:VCALENDAR
