BEGIN:VCALENDAR
VERSION:2.0
PRODID:-//ZContent.net//ZapCalLib 1.0//EN
CALSCALE:GREGORIAN
METHOD:PUBLISH
BEGIN:VEVENT
SUMMARY:"Deutschland treibt sich ab" & Selbstbestimmte Norm | Vortrag im Ra
 hmen der Linken Buchtage Berlin
DTSTART:20150606T160000
DTEND:20150606T160000
UID:2026-04-21-23-53-52-0-@calendar.boell.de
DTSTAMP:20260421T215352
DESCRIPTION:▶ Siehe Veranstaltungsbeschreibung – Berlin – Externe Ver
 anstaltung
END:VEVENT
END:VCALENDAR
