BEGIN:VCALENDAR
VERSION:2.0
PRODID:-//ZContent.net//ZapCalLib 1.0//EN
CALSCALE:GREGORIAN
METHOD:PUBLISH
BEGIN:VEVENT
SUMMARY:ZEITZEUGENGESPRÄCH: „9841“ zur Erinnerung an Johann Rukeli Tro
 llmann 
DTSTART:20150925T170000
DTEND:20150925T190000
UID:2026-04-24-03-25-08-0-@calendar.boell.de
DTSTAMP:20260424T012508
DESCRIPTION:▶ Siehe Veranstaltungsbeschreibung – Dresden – Landesstif
 tung Sachsen (Weiterdenken)
END:VEVENT
END:VCALENDAR
