BEGIN:VCALENDAR
VERSION:2.0
PRODID:-//ZContent.net//ZapCalLib 1.0//EN
CALSCALE:GREGORIAN
METHOD:PUBLISH
BEGIN:VEVENT
SUMMARY:Von wegen alternativlos - Hamburg kann's besser! | Wege in ein gute
 s Leben jenseits von Wachstumszwängen
DTSTART:20150926T100000
DTEND:20150926T173000
UID:2026-04-24-08-26-00-0-@calendar.boell.de
DTSTAMP:20260424T062600
DESCRIPTION:Landesstiftung Hamburg
END:VEVENT
END:VCALENDAR
