BEGIN:VCALENDAR
VERSION:2.0
PRODID:-//ZContent.net//ZapCalLib 1.0//EN
CALSCALE:GREGORIAN
METHOD:PUBLISH
BEGIN:VEVENT
SUMMARY:Vielfalt in der Schule  | Lesbische, schwule, bisexuelle und trans*
  Jugendliche gehören dazu! 
DTSTART:20150915T170000
DTEND:20150915T200000
UID:2026-04-20-11-03-29-0-@calendar.boell.de
DTSTAMP:20260420T090329
DESCRIPTION:Hamburg – Landesstiftung Hamburg
END:VEVENT
END:VCALENDAR
