BEGIN:VCALENDAR
VERSION:2.0
PRODID:-//ZContent.net//ZapCalLib 1.0//EN
CALSCALE:GREGORIAN
METHOD:PUBLISH
BEGIN:VEVENT
SUMMARY: Vortragsreihe zur Klimakonferenz an Hochschulen in NRW (4504-15) |
  Eine Kooperation mit der BUNDjugend NRW
DTSTART:20151111T180000
DTEND:20151111T180000
UID:2026-04-19-14-46-58-0-@calendar.boell.de
DTSTAMP:20260419T124658
DESCRIPTION:▶ Siehe Veranstaltungsbeschreibung – Wuppertal – Landesst
 iftung Nordrhein-Westfalen
END:VEVENT
BEGIN:VEVENT
SUMMARY: Vortragsreihe zur Klimakonferenz an Hochschulen in NRW (4504-15) |
  Eine Kooperation mit der BUNDjugend NRW
DTSTART:20151112T183000
DTEND:20151112T183000
UID:2026-04-19-12-46-58-1-@calendar.boell.de
DTSTAMP:20260419T124658
DESCRIPTION:▶ Siehe Veranstaltungsbeschreibung – Wuppertal – Landesst
 iftung Nordrhein-Westfalen
END:VEVENT
BEGIN:VEVENT
SUMMARY: Vortragsreihe zur Klimakonferenz an Hochschulen in NRW (4504-15) |
  Eine Kooperation mit der BUNDjugend NRW
DTSTART:20151116T180000
DTEND:20151116T180000
UID:2026-04-19-12-46-58-2-@calendar.boell.de
DTSTAMP:20260419T124658
DESCRIPTION:▶ Siehe Veranstaltungsbeschreibung – Wuppertal – Landesst
 iftung Nordrhein-Westfalen
END:VEVENT
BEGIN:VEVENT
SUMMARY: Vortragsreihe zur Klimakonferenz an Hochschulen in NRW (4504-15) |
  Eine Kooperation mit der BUNDjugend NRW
DTSTART:20151117T181500
DTEND:20151117T181500
UID:2026-04-19-12-46-58-3-@calendar.boell.de
DTSTAMP:20260419T124658
DESCRIPTION:▶ Siehe Veranstaltungsbeschreibung – Wuppertal – Landesst
 iftung Nordrhein-Westfalen
END:VEVENT
BEGIN:VEVENT
SUMMARY: Vortragsreihe zur Klimakonferenz an Hochschulen in NRW (4504-15) |
  Eine Kooperation mit der BUNDjugend NRW
DTSTART:20151118T180000
DTEND:20151118T180000
UID:2026-04-19-12-46-58-4-@calendar.boell.de
DTSTAMP:20260419T124658
DESCRIPTION:▶ Siehe Veranstaltungsbeschreibung – Wuppertal – Landesst
 iftung Nordrhein-Westfalen
END:VEVENT
BEGIN:VEVENT
SUMMARY: Vortragsreihe zur Klimakonferenz an Hochschulen in NRW (4504-15) |
  Eine Kooperation mit der BUNDjugend NRW
DTSTART:20151119T190000
DTEND:20151119T190000
UID:2026-04-19-12-46-58-5-@calendar.boell.de
DTSTAMP:20260419T124658
DESCRIPTION:▶ Siehe Veranstaltungsbeschreibung – Wuppertal – Landesst
 iftung Nordrhein-Westfalen
END:VEVENT
BEGIN:VEVENT
SUMMARY: Vortragsreihe zur Klimakonferenz an Hochschulen in NRW (4504-15) |
  Eine Kooperation mit der BUNDjugend NRW
DTSTART:20151123T200000
DTEND:20151123T200000
UID:2026-04-19-12-46-58-6-@calendar.boell.de
DTSTAMP:20260419T124658
DESCRIPTION:▶ Siehe Veranstaltungsbeschreibung – Wuppertal – Landesst
 iftung Nordrhein-Westfalen
END:VEVENT
END:VCALENDAR
