BEGIN:VCALENDAR
VERSION:2.0
PRODID:-//ZContent.net//ZapCalLib 1.0//EN
CALSCALE:GREGORIAN
METHOD:PUBLISH
BEGIN:VEVENT
SUMMARY:Die AfD - Nach der Herbstoffensive der Winterschlaf? | Gut Vertrete
 n? - Update für Demokratie
DTSTART:20151202T190000
DTEND:20151202T210000
UID:2026-04-24-00-00-15-0-@calendar.boell.de
DTSTAMP:20260423T220015
DESCRIPTION:▶ Siehe Veranstaltungsbeschreibung – Potsdam – Landesstif
 tung Brandenburg
END:VEVENT
END:VCALENDAR
