BEGIN:VCALENDAR
VERSION:2.0
PRODID:-//ZContent.net//ZapCalLib 1.0//EN
CALSCALE:GREGORIAN
METHOD:PUBLISH
BEGIN:VEVENT
SUMMARY:Strukturentwicklung im Südsudan – eine interdisziplinäre Fachta
 gung | Das jüngeste Land der Welt im Bürgerkrieg – Wie geht es weiter?
DTSTART:20160122T140000
DTEND:20160123T170000
UID:2026-04-21-15-23-09-0-@calendar.boell.de
DTSTAMP:20260421T132309
DESCRIPTION:
END:VEVENT
END:VCALENDAR
