BEGIN:VCALENDAR
VERSION:2.0
PRODID:-//ZContent.net//ZapCalLib 1.0//EN
CALSCALE:GREGORIAN
METHOD:PUBLISH
BEGIN:VEVENT
SUMMARY:made by us - Radioaktivität in Thüringen und Fukushima | 5 Jahre 
 nach dem Super GAU - Vernissage, Podiumsdiskussion und Ausstellung
DTSTART:20160311T190000
DTEND:20160320T160000
UID:2026-04-19-15-48-07-0-@calendar.boell.de
DTSTAMP:20260419T134807
DESCRIPTION:▶ Siehe Veranstaltungsbeschreibung – Meiningen – Landesst
 iftung Thüringen
END:VEVENT
END:VCALENDAR
