BEGIN:VCALENDAR
VERSION:2.0
PRODID:-//ZContent.net//ZapCalLib 1.0//EN
CALSCALE:GREGORIAN
METHOD:PUBLISH
BEGIN:VEVENT
SUMMARY:Olympische Spiele in Brasilien | Die Kehrseite der Medaille
DTSTART:20160420T193000
DTEND:20160420T210000
UID:2026-04-23-06-31-12-0-@calendar.boell.de
DTSTAMP:20260423T043112
DESCRIPTION:Heinrich-Böll-Stiftung - Bundesstiftung Berlin – Berlin – 
 Heinrich-Böll-Stiftung - Bundesstiftung Berlin
END:VEVENT
END:VCALENDAR
