BEGIN:VCALENDAR
VERSION:2.0
PRODID:-//ZContent.net//ZapCalLib 1.0//EN
CALSCALE:GREGORIAN
METHOD:PUBLISH
BEGIN:VEVENT
SUMMARY:Welcome.Kulturtage | CSD Hannover | nationality.race.secuality.gend
 er.religion.ethnicity.age.abitity.socio-economic status
DTSTART:20160502T190000
DTEND:20160502T190000
UID:2026-04-21-13-57-00-0-@calendar.boell.de
DTSTAMP:20260421T115700
DESCRIPTION:▶ Siehe Veranstaltungsbeschreibung – Hannover – 
END:VEVENT
BEGIN:VEVENT
SUMMARY:Welcome.Kulturtage | CSD Hannover | nationality.race.secuality.gend
 er.religion.ethnicity.age.abitity.socio-economic status
DTSTART:20160517T204500
DTEND:20160517T204500
UID:2026-04-21-11-57-00-1-@calendar.boell.de
DTSTAMP:20260421T115700
DESCRIPTION:▶ Siehe Veranstaltungsbeschreibung – Hannover – 
END:VEVENT
END:VCALENDAR
