BEGIN:VCALENDAR
VERSION:2.0
PRODID:-//ZContent.net//ZapCalLib 1.0//EN
CALSCALE:GREGORIAN
METHOD:PUBLISH
BEGIN:VEVENT
SUMMARY:CALL FOR PAPERS: Jak by měla vypadat nová architektura azylové a
  migrační politiky EU?
DTSTART:20160623T000000
DTEND:20160623T000000
UID:2026-04-26-06-15-29-0-@calendar.boell.de
DTSTAMP:20260426T041529
DESCRIPTION:Externe Veranstaltung
END:VEVENT
END:VCALENDAR
