BEGIN:VCALENDAR
VERSION:2.0
PRODID:-//ZContent.net//ZapCalLib 1.0//EN
CALSCALE:GREGORIAN
METHOD:PUBLISH
BEGIN:VEVENT
SUMMARY: Gesellschaftlicher Zusammenhalt in bewegten Zeiten | Erstes Alumni
 - und Stip-Forum Baden-Württemberg
DTSTART:20160702T130000
DTEND:20160702T190000
UID:2026-04-19-14-38-45-0-@calendar.boell.de
DTSTAMP:20260419T123845
DESCRIPTION:Stuttgart – 
END:VEVENT
END:VCALENDAR
