BEGIN:VCALENDAR
VERSION:2.0
PRODID:-//ZContent.net//ZapCalLib 1.0//EN
CALSCALE:GREGORIAN
METHOD:PUBLISH
BEGIN:VEVENT
SUMMARY:Habitat III: Co-producing sustainable cities? | Lokalregierungen un
 d Zivilgesellschaft in der globalen nachhaltigen Stadtentwicklung
DTSTART:20160915T160000
DTEND:20160915T210000
UID:2026-04-24-02-48-08-0-@calendar.boell.de
DTSTAMP:20260424T004808
DESCRIPTION:Heinrich-Böll-Stiftung - Bundesstiftung Berlin – Berlin – 
 Heinrich-Böll-Stiftung - Bundesstiftung Berlin
END:VEVENT
BEGIN:VEVENT
SUMMARY:Habitat III: Co-producing sustainable cities? | Lokalregierungen un
 d Zivilgesellschaft in der globalen nachhaltigen Stadtentwicklung
DTSTART:20160916T090000
DTEND:20160916T153000
UID:2026-04-24-00-48-08-1-@calendar.boell.de
DTSTAMP:20260424T004808
DESCRIPTION:Heinrich-Böll-Stiftung - Bundesstiftung Berlin – Berlin – 
 Heinrich-Böll-Stiftung - Bundesstiftung Berlin
END:VEVENT
END:VCALENDAR
