BEGIN:VCALENDAR
VERSION:2.0
PRODID:-//ZContent.net//ZapCalLib 1.0//EN
CALSCALE:GREGORIAN
METHOD:PUBLISH
BEGIN:VEVENT
SUMMARY:Öffentlichkeit (digitale) | Zum neuen Strukturwandel der öffentli
 chen Sphäre
DTSTART:20160926T193000
DTEND:20160926T210000
UID:2026-04-22-00-06-50-0-@calendar.boell.de
DTSTAMP:20260421T220650
DESCRIPTION:Heinrich-Böll-Stiftung - Bundesstiftung Berlin – Berlin – 
 Heinrich-Böll-Stiftung - Bundesstiftung Berlin
END:VEVENT
END:VCALENDAR
