BEGIN:VCALENDAR
VERSION:2.0
PRODID:-//ZContent.net//ZapCalLib 1.0//EN
CALSCALE:GREGORIAN
METHOD:PUBLISH
BEGIN:VEVENT
SUMMARY:Lessons (Un)learned | Zu den TV-Nachrichten in ARD und ZDF über di
 e Silvesternacht 15/16 in Köln
DTSTART:20161122T190000
DTEND:20161122T213000
UID:2026-04-24-09-42-03-0-@calendar.boell.de
DTSTAMP:20260424T074203
DESCRIPTION:Heinrich-Böll-Stiftung - Bundesstiftung Berlin – Berlin – 
 Gunda-Werner-Institut für Feminismus und Geschlechterdemokratie
END:VEVENT
END:VCALENDAR
