BEGIN:VCALENDAR
VERSION:2.0
PRODID:-//ZContent.net//ZapCalLib 1.0//EN
CALSCALE:GREGORIAN
METHOD:PUBLISH
BEGIN:VEVENT
SUMMARY:Familien stärken und Vielfalt ermöglichen | Impulse für eine neu
 e Familienpolitik
DTSTART:20170515T100000
DTEND:20170515T180000
UID:2026-04-24-09-42-11-0-@calendar.boell.de
DTSTAMP:20260424T074211
DESCRIPTION:Heinrich-Böll-Stiftung - Bundesstiftung Berlin – Berlin – 
 Heinrich-Böll-Stiftung - Bundesstiftung Berlin
END:VEVENT
BEGIN:VEVENT
SUMMARY:Familien stärken und Vielfalt ermöglichen | Impulse für eine neu
 e Familienpolitik
DTSTART:20170516T100000
DTEND:20170516T160000
UID:2026-04-24-07-42-11-1-@calendar.boell.de
DTSTAMP:20260424T074211
DESCRIPTION:Heinrich-Böll-Stiftung - Bundesstiftung Berlin – Berlin – 
 Heinrich-Böll-Stiftung - Bundesstiftung Berlin
END:VEVENT
END:VCALENDAR
