BEGIN:VCALENDAR
VERSION:2.0
PRODID:-//ZContent.net//ZapCalLib 1.0//EN
CALSCALE:GREGORIAN
METHOD:PUBLISH
BEGIN:VEVENT
SUMMARY:Superhelden  | Gesellschaftsbilder eines populären Genres 
DTSTART:20170424T193000
DTEND:20170424T210000
UID:2026-04-25-06-20-09-0-@calendar.boell.de
DTSTAMP:20260425T042009
DESCRIPTION:Heinrich-Böll-Stiftung - Bundesstiftung Berlin – Berlin – 
 Heinrich-Böll-Stiftung - Bundesstiftung Berlin
END:VEVENT
END:VCALENDAR
