BEGIN:VCALENDAR
VERSION:2.0
PRODID:-//ZContent.net//ZapCalLib 1.0//EN
CALSCALE:GREGORIAN
METHOD:PUBLISH
BEGIN:VEVENT
SUMMARY:Teilhabe statt Armut | Fachforum zur Armutsprävention in Thüringe
 n
DTSTART:20170510T170000
DTEND:20170510T203000
UID:2026-04-21-15-22-46-0-@calendar.boell.de
DTSTAMP:20260421T132246
DESCRIPTION:▶ Siehe Veranstaltungsbeschreibung – Erfurt – Landesstift
 ung Thüringen
END:VEVENT
END:VCALENDAR
