BEGIN:VCALENDAR
VERSION:2.0
PRODID:-//ZContent.net//ZapCalLib 1.0//EN
CALSCALE:GREGORIAN
METHOD:PUBLISH
BEGIN:VEVENT
SUMMARY:Nicht mit und nicht ohne einander | Wie weiter in den komplizierten
  Beziehungen mit der TÃ¼rkei?
DTSTART:20170427T190000
DTEND:20170427T210000
UID:2026-04-22-06-58-22-0-@calendar.boell.de
DTSTAMP:20260422T045822
DESCRIPTION:â–¶ Siehe Veranstaltungsbeschreibung â€“ Berlin â€“ Heinrich-BÃ
 ¶ll-Stiftung - Bundesstiftung Berlin
END:VEVENT
END:VCALENDAR
