BEGIN:VCALENDAR
VERSION:2.0
PRODID:-//ZContent.net//ZapCalLib 1.0//EN
CALSCALE:GREGORIAN
METHOD:PUBLISH
BEGIN:VEVENT
SUMMARY:Weisse Wölfe | Comic-Ausstellung über rechten Terror
DTSTART:20170516T173000
DTEND:20170616T180000
UID:2026-04-22-16-14-40-0-@calendar.boell.de
DTSTAMP:20260422T141440
DESCRIPTION:Dresden – Landesstiftung Sachsen (Weiterdenken)
END:VEVENT
END:VCALENDAR
