BEGIN:VCALENDAR
VERSION:2.0
PRODID:-//ZContent.net//ZapCalLib 1.0//EN
CALSCALE:GREGORIAN
METHOD:PUBLISH
BEGIN:VEVENT
SUMMARY:Die neue Lust auf Europa | Wie weiter in turbulenten Zeiten?
DTSTART:20170522T180000
DTEND:20170522T200000
UID:2026-04-19-18-56-06-0-@calendar.boell.de
DTSTAMP:20260419T165606
DESCRIPTION:▶ Siehe Veranstaltungsbeschreibung – Hamburg – Landesstif
 tung Hamburg
END:VEVENT
END:VCALENDAR
