BEGIN:VCALENDAR
VERSION:2.0
PRODID:-//ZContent.net//ZapCalLib 1.0//EN
CALSCALE:GREGORIAN
METHOD:PUBLISH
BEGIN:VEVENT
SUMMARY:Infotour Rostock: Haben wir Russland provoziert? | Innenansichten a
 us Russland zur russlandpolitischen Debatte in Deutschland.
DTSTART:20170614T180000
DTEND:20170614T193000
UID:2026-04-24-02-47-48-0-@calendar.boell.de
DTSTAMP:20260424T004748
DESCRIPTION:Rostock – Landesstiftung Mecklenburg-Vorpommern
END:VEVENT
END:VCALENDAR
