BEGIN:VCALENDAR
VERSION:2.0
PRODID:-//ZContent.net//ZapCalLib 1.0//EN
CALSCALE:GREGORIAN
METHOD:PUBLISH
BEGIN:VEVENT
SUMMARY:Exit RACISM. Rassismuskritisch denken lernen. | Eine multimediale u
 nd interaktive Lesung mit Tupoka Ogette und Stephen Lawson
DTSTART:20170713T180000
DTEND:20170713T210000
UID:2026-04-21-01-05-56-0-@calendar.boell.de
DTSTAMP:20260420T230556
DESCRIPTION:Heinrich-Böll-Stiftung - Bundesstiftung Berlin – Berlin – 
 Heinrich-Böll-Stiftung - Bundesstiftung Berlin
END:VEVENT
END:VCALENDAR
