BEGIN:VCALENDAR
VERSION:2.0
PRODID:-//ZContent.net//ZapCalLib 1.0//EN
CALSCALE:GREGORIAN
METHOD:PUBLISH
BEGIN:VEVENT
SUMMARY:Mit Kunstaktivismus Rassismus hacken
DTSTART:20170603T100000
DTEND:20170603T150000
UID:2026-04-21-23-40-32-0-@calendar.boell.de
DTSTAMP:20260421T214032
DESCRIPTION:Dresden – Landesstiftung Sachsen (Weiterdenken)
END:VEVENT
END:VCALENDAR
