BEGIN:VCALENDAR
VERSION:2.0
PRODID:-//ZContent.net//ZapCalLib 1.0//EN
CALSCALE:GREGORIAN
METHOD:PUBLISH
BEGIN:VEVENT
SUMMARY:Jüdische Realitäten in einer multikulturellen Gesellschaft - heut
 e und morgen
DTSTART:20170621T180000
DTEND:20170621T180000
UID:2026-04-21-01-05-55-0-@calendar.boell.de
DTSTAMP:20260420T230555
DESCRIPTION:Heinrich-Böll-Stiftung - Bundesstiftung Berlin – Berlin – 
 Heinrich-Böll-Stiftung - Bundesstiftung Berlin
END:VEVENT
END:VCALENDAR
