BEGIN:VCALENDAR
VERSION:2.0
PRODID:-//ZContent.net//ZapCalLib 1.0//EN
CALSCALE:GREGORIAN
METHOD:PUBLISH
BEGIN:VEVENT
SUMMARY:A Society of Intervention - Eine Interventionsgesellschaft | Ein Es
 say über Konflikte in Afghanistan und anderen militärischen Intervention
 en
DTSTART:20170705T160000
DTEND:20170705T180000
UID:2026-04-23-01-06-19-0-@calendar.boell.de
DTSTAMP:20260422T230619
DESCRIPTION:Heinrich-Böll-Stiftung - Bundesstiftung Berlin – Berlin – 
 Heinrich-Böll-Stiftung - Bundesstiftung Berlin
END:VEVENT
END:VCALENDAR
