BEGIN:VCALENDAR
VERSION:2.0
PRODID:-//ZContent.net//ZapCalLib 1.0//EN
CALSCALE:GREGORIAN
METHOD:PUBLISH
BEGIN:VEVENT
SUMMARY:20. Böll-Forum NRW  (ausgebucht, keine Anmeldung mehr möglich) | 
 Bölls Ästhetik des Humanen
DTSTART:20171020T183000
DTEND:20171020T213000
UID:2026-04-22-03-01-50-0-@calendar.boell.de
DTSTAMP:20260422T010150
DESCRIPTION:▶ Siehe Veranstaltungsbeschreibung – Köln – Landesstiftu
 ng Nordrhein-Westfalen
END:VEVENT
END:VCALENDAR
