BEGIN:VCALENDAR
VERSION:2.0
PRODID:-//ZContent.net//ZapCalLib 1.0//EN
CALSCALE:GREGORIAN
METHOD:PUBLISH
BEGIN:VEVENT
SUMMARY:Lesekreis "Auf der Suche nach dem kritischen Bewusstsein"
DTSTART:20171019T190000
DTEND:20171019T210000
UID:2026-04-24-00-00-24-0-@calendar.boell.de
DTSTAMP:20260423T220024
DESCRIPTION:Berlin – Landesstiftung Berlin (Bildungswerk)
END:VEVENT
END:VCALENDAR
