BEGIN:VCALENDAR
VERSION:2.0
PRODID:-//ZContent.net//ZapCalLib 1.0//EN
CALSCALE:GREGORIAN
METHOD:PUBLISH
BEGIN:VEVENT
SUMMARY:Rechtsruck in Europa – Wie umgehen mit rechten Parolen? 
DTSTART:20171102T190000
DTEND:20171102T210000
UID:2026-04-22-22-12-14-0-@calendar.boell.de
DTSTAMP:20260422T201214
DESCRIPTION:Heinrich-Böll-Stiftung - Bundesstiftung Berlin – Berlin – 
 Heinrich-Böll-Stiftung - Bundesstiftung Berlin
END:VEVENT
END:VCALENDAR
