BEGIN:VCALENDAR
VERSION:2.0
PRODID:-//ZContent.net//ZapCalLib 1.0//EN
CALSCALE:GREGORIAN
METHOD:PUBLISH
BEGIN:VEVENT
SUMMARY:TrÃ¼gerische Sicherheit | Wie die Terrorangst uns in den Ausnahmezu
 stand treibt
DTSTART:20171121T190000
DTEND:20171121T210000
UID:2026-04-21-22-26-26-0-@calendar.boell.de
DTSTAMP:20260421T202626
DESCRIPTION:Heinrich-BÃ¶ll-Stiftung - Bundesstiftung Berlin â€“ Heinrich-BÃ
 ¶ll-Stiftung - Bundesstiftung Berlin
END:VEVENT
END:VCALENDAR
