BEGIN:VCALENDAR
VERSION:2.0
PRODID:-//ZContent.net//ZapCalLib 1.0//EN
CALSCALE:GREGORIAN
METHOD:PUBLISH
BEGIN:VEVENT
SUMMARY:Spaltet Euch nicht! | Atomkraft als Herausforderung für die intern
 ationale Gemeinschaft
DTSTART:20171121T110000
DTEND:20171121T130000
UID:2026-04-23-20-59-18-0-@calendar.boell.de
DTSTAMP:20260423T185918
DESCRIPTION:Heinrich-Böll-Stiftung - Bundesstiftung Berlin – Berlin – 
 Heinrich-Böll-Stiftung - Bundesstiftung Berlin
END:VEVENT
END:VCALENDAR
