BEGIN:VCALENDAR
VERSION:2.0
PRODID:-//ZContent.net//ZapCalLib 1.0//EN
CALSCALE:GREGORIAN
METHOD:PUBLISH
BEGIN:VEVENT
SUMMARY:Verwaltung trifft Beteiligung | Zwischen Amt und Bürgerinnen/Bürg
 ern: Krisen und Chancen 
DTSTART:20180301T140000
DTEND:20180302T133000
UID:2026-04-22-22-12-11-0-@calendar.boell.de
DTSTAMP:20260422T201211
DESCRIPTION:Heinrich-Böll-Stiftung - Bundesstiftung Berlin – Berlin – 
 Heinrich-Böll-Stiftung - Bundesstiftung Berlin
END:VEVENT
END:VCALENDAR
