BEGIN:VCALENDAR
VERSION:2.0
PRODID:-//ZContent.net//ZapCalLib 1.0//EN
CALSCALE:GREGORIAN
METHOD:PUBLISH
BEGIN:VEVENT
SUMMARY:GreenCampus Workshop Spezial: Vorteil Vielfalt: Diversity Mainstrea
 ming in Organisationen (ausgebucht)
DTSTART:20181022T100000
DTEND:20181023T180000
UID:2026-04-21-10-24-37-0-@calendar.boell.de
DTSTAMP:20260421T082437
DESCRIPTION:Heinrich-Böll-Stiftung - Bundesstiftung Berlin – Berlin – 
 GreenCampus
END:VEVENT
END:VCALENDAR
