BEGIN:VCALENDAR
VERSION:2.0
PRODID:-//ZContent.net//ZapCalLib 1.0//EN
CALSCALE:GREGORIAN
METHOD:PUBLISH
BEGIN:VEVENT
SUMMARY:Sunganges | Filmabend zum Internationalen Aktionstag für Flüsse
DTSTART:20180314T180000
DTEND:20180314T203000
UID:2026-04-19-21-02-30-0-@calendar.boell.de
DTSTAMP:20260419T190230
DESCRIPTION:Heinrich-Böll-Stiftung - Bundesstiftung Berlin – Berlin – 
 Heinrich-Böll-Stiftung - Bundesstiftung Berlin
END:VEVENT
END:VCALENDAR
