BEGIN:VCALENDAR
VERSION:2.0
PRODID:-//ZContent.net//ZapCalLib 1.0//EN
CALSCALE:GREGORIAN
METHOD:PUBLISH
BEGIN:VEVENT
SUMMARY:Sommer 2015: Nur eine historische Ausnahme? (AUSGEBUCHT) | Die dunk
 le Seite deutscher Flüchtlingspolitik
DTSTART:20180321T190000
DTEND:20180321T210000
UID:2026-04-21-01-05-54-0-@calendar.boell.de
DTSTAMP:20260420T230554
DESCRIPTION:Heinrich-Böll-Stiftung - Bundesstiftung Berlin – Berlin – 
 Heinrich-Böll-Stiftung - Bundesstiftung Berlin
END:VEVENT
END:VCALENDAR
