BEGIN:VCALENDAR
VERSION:2.0
PRODID:-//ZContent.net//ZapCalLib 1.0//EN
CALSCALE:GREGORIAN
METHOD:PUBLISH
BEGIN:VEVENT
SUMMARY:BigBrotherAwards 2018 | Preisverleihung
DTSTART:20180420T180000
DTEND:20180420T210000
UID:2026-04-24-12-09-37-0-@calendar.boell.de
DTSTAMP:20260424T100937
DESCRIPTION:▶ Siehe Veranstaltungsbeschreibung – Bielefeld – Heinrich
 -Böll-Stiftung - Bundesstiftung Berlin
END:VEVENT
END:VCALENDAR
