BEGIN:VCALENDAR
VERSION:2.0
PRODID:-//ZContent.net//ZapCalLib 1.0//EN
CALSCALE:GREGORIAN
METHOD:PUBLISH
BEGIN:VEVENT
SUMMARY:Tödliche Algorithmen | Dürfen Waffen autonom über Leben und Tod 
 entscheiden?
DTSTART:20180523T193000
DTEND:20180523T210000
UID:2026-04-25-06-20-11-0-@calendar.boell.de
DTSTAMP:20260425T042011
DESCRIPTION:Heinrich-Böll-Stiftung - Bundesstiftung Berlin – Berlin – 
 Heinrich-Böll-Stiftung - Bundesstiftung Berlin
END:VEVENT
END:VCALENDAR
