BEGIN:VCALENDAR
VERSION:2.0
PRODID:-//ZContent.net//ZapCalLib 1.0//EN
CALSCALE:GREGORIAN
METHOD:PUBLISH
BEGIN:VEVENT
SUMMARY:Schafft zwei, drei, viele 1968 | Lesekreis zur Frage der Emanzipati
 on, 2. Sitzung
DTSTART:20180913T190000
DTEND:20180913T213000
UID:2026-04-24-08-45-22-0-@calendar.boell.de
DTSTAMP:20260424T064522
DESCRIPTION:Berlin – Landesstiftung Berlin (Bildungswerk)
END:VEVENT
END:VCALENDAR
