BEGIN:VCALENDAR
VERSION:2.0
PRODID:-//ZContent.net//ZapCalLib 1.0//EN
CALSCALE:GREGORIAN
METHOD:PUBLISH
BEGIN:VEVENT
SUMMARY:U borbenoj zoni | Politički narativi od završetka balkanskih rato
 va
DTSTART:20180920T190008
DTEND:20180920T210000
UID:2026-04-21-22-26-38-0-@calendar.boell.de
DTSTAMP:20260421T202638
DESCRIPTION:Heinrich-Böll-Stiftung - Bundesstiftung Berlin – Berlin – 
END:VEVENT
END:VCALENDAR
