BEGIN:VCALENDAR
VERSION:2.0
PRODID:-//ZContent.net//ZapCalLib 1.0//EN
CALSCALE:GREGORIAN
METHOD:PUBLISH
BEGIN:VEVENT
SUMMARY:Tiefseebergbau im Pazifik | Stimmen des Widerstands
DTSTART:20181001T190000
DTEND:20181001T210000
UID:2026-04-20-10-32-37-0-@calendar.boell.de
DTSTAMP:20260420T083237
DESCRIPTION:▶ Siehe Veranstaltungsbeschreibung – Hamburg – Landesstif
 tung Hamburg
END:VEVENT
END:VCALENDAR
