BEGIN:VCALENDAR
VERSION:2.0
PRODID:-//ZContent.net//ZapCalLib 1.0//EN
CALSCALE:GREGORIAN
METHOD:PUBLISH
BEGIN:VEVENT
SUMMARY:#MeTwo – vom Hashtag in den Alltag | Dimensionen einer digitalen 
 Debatte
DTSTART:20181004T183000
DTEND:20181004T213000
UID:2026-04-21-10-06-58-0-@calendar.boell.de
DTSTAMP:20260421T080658
DESCRIPTION:Heinrich-Böll-Stiftung - Bundesstiftung Berlin – Berlin – 
 Heimatkunde. Migrationspolitisches Portal
END:VEVENT
END:VCALENDAR
