BEGIN:VCALENDAR
VERSION:2.0
PRODID:-//ZContent.net//ZapCalLib 1.0//EN
CALSCALE:GREGORIAN
METHOD:PUBLISH
BEGIN:VEVENT
SUMMARY:Die Ukraine vor dem Superwahljahr 2019 – die Regionen im Fokus
DTSTART:20181016T170000
DTEND:20181016T193000
UID:2026-04-26-05-22-02-0-@calendar.boell.de
DTSTAMP:20260426T032202
DESCRIPTION:▶ Siehe Veranstaltungsbeschreibung – Berlin – 
END:VEVENT
BEGIN:VEVENT
SUMMARY:Die Ukraine vor dem Superwahljahr 2019 – die Regionen im Fokus
DTSTART:20181017T090000
DTEND:20181017T170000
UID:2026-04-26-03-22-02-1-@calendar.boell.de
DTSTAMP:20260426T032202
DESCRIPTION:▶ Siehe Veranstaltungsbeschreibung – Berlin – 
END:VEVENT
END:VCALENDAR
