BEGIN:VCALENDAR
VERSION:2.0
PRODID:-//ZContent.net//ZapCalLib 1.0//EN
CALSCALE:GREGORIAN
METHOD:PUBLISH
BEGIN:VEVENT
SUMMARY:"Perspektiven gesellschaftlicher Veränderungen" | Lesekreis 1. Sit
 zung
DTSTART:20181101T190000
DTEND:20181101T213000
UID:2026-04-24-06-24-40-0-@calendar.boell.de
DTSTAMP:20260424T042440
DESCRIPTION:Berlin – Landesstiftung Berlin (Bildungswerk)
END:VEVENT
END:VCALENDAR
