BEGIN:VCALENDAR
VERSION:2.0
PRODID:-//ZContent.net//ZapCalLib 1.0//EN
CALSCALE:GREGORIAN
METHOD:PUBLISH
BEGIN:VEVENT
SUMMARY:"Perspektiven gesellschaftlicher Veränderungen" | Lesekreis 2. Sit
 zung
DTSTART:20181108T190000
DTEND:20181108T213000
UID:2026-04-24-15-00-08-0-@calendar.boell.de
DTSTAMP:20260424T130008
DESCRIPTION:Berlin – Landesstiftung Berlin (Bildungswerk)
END:VEVENT
END:VCALENDAR
