BEGIN:VCALENDAR
VERSION:2.0
PRODID:-//ZContent.net//ZapCalLib 1.0//EN
CALSCALE:GREGORIAN
METHOD:PUBLISH
BEGIN:VEVENT
SUMMARY:"Perspektiven gesellschaftlicher Veränderungen" | Lesekreis 4. Sit
 zung
DTSTART:20181122T190000
DTEND:20181122T213000
UID:2026-04-23-17-20-19-0-@calendar.boell.de
DTSTAMP:20260423T152019
DESCRIPTION:Berlin – Landesstiftung Berlin (Bildungswerk)
END:VEVENT
END:VCALENDAR
